BEGIN:VCALENDAR
VERSION:2.0
PRODID:-//ChamberMaster//Event Calendar 2.0//EN
METHOD:PUBLISH
X-PUBLISHED-TTL:P3D
REFRESH-INTERVAL:P3D
CALSCALE:GREGORIAN
BEGIN:VEVENT
DTSTART:20120725T210000Z
DTEND:20120725T213000Z
X-MICROSOFT-CDO-ALLDAYEVENT:FALSE
SUMMARY:Ribbon Cutting for Grandpa's Ice Cream
DESCRIPTION:Come celebrate with us the ribbon cutting of new chamber member\, Grandpa's Ice Cream and get a free sampling of their scrumptious flavors!
X-ALT-DESC;FMTTYPE=text/html:Come celebrate with&nbsp\;us the&nbsp\;ribbon cutting of new chamber member\,&nbsp\;Grandpa&#39\;s Ice&nbsp\;Cream and get a free sampling of&nbsp\;their scrumptious flavors!
LOCATION:Grandpa's Ice Cream 1258 E. Moore Lake Dr. Fridley\, MN 55432
UID:e.380.145531
SEQUENCE:3
DTSTAMP:20260425T143351Z
URL:http://members.metronorthchamber.org/events/details/ribbon-cutting-for-grandpa-s-ice-cream-07-25-2012-145531
END:VEVENT

END:VCALENDAR
