BEGIN:VCALENDAR
VERSION:2.0
PRODID:-//ChamberMaster//Event Calendar 2.0//EN
METHOD:PUBLISH
X-PUBLISHED-TTL:P3D
REFRESH-INTERVAL:P3D
CALSCALE:GREGORIAN
BEGIN:VEVENT
DTSTART:20180822T154500Z
DTEND:20180822T160000Z
X-MICROSOFT-CDO-ALLDAYEVENT:FALSE
SUMMARY:Ribbon Cutting for GoFit Dining
DESCRIPTION:Join us after Working with Women!!
X-ALT-DESC;FMTTYPE=text/html:Join us after Working with Women!!
LOCATION:Rasmussen College Blaine Campus 3629 95th Ave NE Blaine\, MN 55014
UID:e.380.185766
SEQUENCE:3
DTSTAMP:20260420T170045Z
URL:http://members.metronorthchamber.org/events/details/ribbon-cutting-for-gofit-dining-185766
END:VEVENT

END:VCALENDAR
