BEGIN:VCALENDAR
VERSION:2.0
PRODID:-//ChamberMaster//Event Calendar 2.0//EN
METHOD:PUBLISH
X-PUBLISHED-TTL:P3D
REFRESH-INTERVAL:P3D
CALSCALE:GREGORIAN
BEGIN:VEVENT
DTSTART:20130925T170000Z
DTEND:20130925T170000Z
X-MICROSOFT-CDO-ALLDAYEVENT:FALSE
SUMMARY:Ribbon Cutting for Financial One Credit Union - Coon Rapids
DESCRIPTION:Come celebrate the 80th Anniversary of Financial One Credit Union and their customer appreciation week and cook-out!  Ribbon cutting promptly at noon at their Coon Rapids location.
X-ALT-DESC;FMTTYPE=text/html:Come celebrate the 80th Anniversary of Financial One Credit Union and their customer appreciation week and cook-out!&nbsp\;&nbsp\;Ribbon cutting promptly at noon at their Coon Rapids location.
LOCATION:Financial One Credit Union 11465 Robinson Drive Coon Rapids\, MN 55433
UID:e.380.149479
SEQUENCE:3
DTSTAMP:20260424T162412Z
URL:http://members.metronorthchamber.org/events/details/ribbon-cutting-for-financial-one-credit-union-coon-rapids-09-25-2013-149479
END:VEVENT

END:VCALENDAR
