BEGIN:VCALENDAR
VERSION:2.0
PRODID:-//ChamberMaster//Event Calendar 2.0//EN
METHOD:PUBLISH
X-PUBLISHED-TTL:P3D
REFRESH-INTERVAL:P3D
CALSCALE:GREGORIAN
BEGIN:VEVENT
DTSTART:20191007T170000Z
DTEND:20191007T180000Z
X-MICROSOFT-CDO-ALLDAYEVENT:FALSE
SUMMARY:Ribbon Cutting for Financial One Credit Union-Blaine
DESCRIPTION:Join us in celebrating the re-grand opening of the newly remodeled Financial One Credit Union's Blaine office. Food and refreshments will be served with the ribbon cut at 12:15 pm.
X-ALT-DESC;FMTTYPE=text/html:Join us in celebrating the re-grand opening of the newly remodeled Financial One Credit Union&#39\;s Blaine office. Food and refreshments will be served with the ribbon cut at 12:15 pm.
LOCATION:10210 Baltimore Street NE Blaine 55449
UID:e.380.191159
SEQUENCE:3
DTSTAMP:20260419T181032Z
URL:http://members.metronorthchamber.org/events/details/ribbon-cutting-for-financial-one-credit-union-blaine-191159
END:VEVENT

END:VCALENDAR
