BEGIN:VCALENDAR
VERSION:2.0
PRODID:-//ChamberMaster//Event Calendar 2.0//EN
METHOD:PUBLISH
X-PUBLISHED-TTL:P3D
REFRESH-INTERVAL:P3D
CALSCALE:GREGORIAN
BEGIN:VEVENT
DTSTART:20191009T210000Z
DTEND:20191010T000000Z
X-MICROSOFT-CDO-ALLDAYEVENT:FALSE
SUMMARY:Ribbon Cutting for Fairfield Inn & Suites Blaine
DESCRIPTION:Join us for a ribbon cutting to celebrate the grand opening of the Fairfield Inn & Suites in Blaine! Refreshments and appetizers will be served\, and tours given.\n\n\n\nRibbon cut at 4:15 pm.
X-ALT-DESC;FMTTYPE=text/html:Join us for a ribbon cutting to celebrate the grand opening of the Fairfield Inn &amp\; Suites in Blaine! Refreshments and appetizers will be served\, and tours given.<br />\n<br />\nRibbon cut at 4:15 pm.
LOCATION:10643 Baltimore Street NE Blaine 55449
UID:e.380.191174
SEQUENCE:3
DTSTAMP:20260419T181018Z
URL:http://members.metronorthchamber.org/events/details/ribbon-cutting-for-fairfield-inn-suites-blaine-191174
END:VEVENT

END:VCALENDAR
