BEGIN:VCALENDAR
VERSION:2.0
PRODID:-//ChamberMaster//Event Calendar 2.0//EN
METHOD:PUBLISH
X-PUBLISHED-TTL:P3D
REFRESH-INTERVAL:P3D
CALSCALE:GREGORIAN
BEGIN:VEVENT
DTSTART:20140930T210000Z
DTEND:20140930T213000Z
X-MICROSOFT-CDO-ALLDAYEVENT:FALSE
SUMMARY:Ribbon Cutting for Duluth Trading Co.
DESCRIPTION:Please come celebrate with us the ribbon cutting for Duluth Trading Company!\n\n252 57th Ave. NE\n\nFridley\, MN 55432
X-ALT-DESC;FMTTYPE=text/html:Please come celebrate with us the ribbon cutting for Duluth Trading Company!<br />\n252 57th Ave. NE<br />\nFridley\, MN 55432
LOCATION:
UID:e.380.151600
SEQUENCE:3
DTSTAMP:20260423T205731Z
URL:http://members.metronorthchamber.org/events/details/ribbon-cutting-for-duluth-trading-co-09-30-2014-151600
END:VEVENT

END:VCALENDAR
