BEGIN:VCALENDAR
VERSION:2.0
PRODID:-//ChamberMaster//Event Calendar 2.0//EN
METHOD:PUBLISH
X-PUBLISHED-TTL:P3D
REFRESH-INTERVAL:P3D
CALSCALE:GREGORIAN
BEGIN:VEVENT
DTSTART:20190822T170000Z
DTEND:20190822T180000Z
X-MICROSOFT-CDO-ALLDAYEVENT:FALSE
SUMMARY:Ribbon Cutting for DBS Residential Solutions
DESCRIPTION:Join us for a grand opening and ribbon cutting for DBS Residential Solutions! Ribbon will be cut at 12:15 pm and refreshments will be served.
X-ALT-DESC;FMTTYPE=text/html:Join us for a grand opening and ribbon cutting for DBS Residential Solutions! Ribbon will be cut at 12:15 pm and refreshments will be served.
LOCATION:DBS Residential Solutions 1584 93rd Lane NE Blaine 55449
UID:e.380.190968
SEQUENCE:3
DTSTAMP:20260419T212758Z
URL:http://members.metronorthchamber.org/events/details/ribbon-cutting-for-dbs-residential-solutions-190968
END:VEVENT

END:VCALENDAR
