BEGIN:VCALENDAR
VERSION:2.0
PRODID:-//ChamberMaster//Event Calendar 2.0//EN
METHOD:PUBLISH
X-PUBLISHED-TTL:P3D
REFRESH-INTERVAL:P3D
CALSCALE:GREGORIAN
BEGIN:VEVENT
DTSTART:20140116T180000Z
DTEND:20140116T183000Z
X-MICROSOFT-CDO-ALLDAYEVENT:FALSE
SUMMARY:Ribbon Cutting for Custom Fireplace & Chimney Care
DESCRIPTION:Please join us as we celebrate the ribbon cutting and grand opening of Custom Fireplace & Chimney Care!  Hot dogs & Hot Cocoa will be provided and there will be a drawing for a special prize.\n\n\n\nAmbassador Team 2
X-ALT-DESC;FMTTYPE=text/html:Please join us as we celebrate the ribbon cutting and grand opening of Custom Fireplace &amp\; Chimney Care!&nbsp\; Hot dogs &amp\; Hot Cocoa will be provided and there will be a drawing for a special prize.<br />\n<br />\nAmbassador Team 2
LOCATION:Custom Fireplace & Chimney Care 9696 University Ave. NW Coon Rapids\, MN 55448
UID:e.380.150031
SEQUENCE:3
DTSTAMP:20260424T094558Z
URL:http://members.metronorthchamber.org/events/details/ribbon-cutting-for-custom-fireplace-chimney-care-01-16-2014-150031
END:VEVENT

END:VCALENDAR
