BEGIN:VCALENDAR
VERSION:2.0
PRODID:-//ChamberMaster//Event Calendar 2.0//EN
METHOD:PUBLISH
X-PUBLISHED-TTL:P3D
REFRESH-INTERVAL:P3D
CALSCALE:GREGORIAN
BEGIN:VEVENT
DTSTART:20130606T210000Z
DTEND:20130606T213000Z
X-MICROSOFT-CDO-ALLDAYEVENT:FALSE
SUMMARY:Ribbon Cutting for Courtyards of Andover by Unique Dining Experiences
DESCRIPTION:Please come celebrate with us the ribbon cutting of Courtyards of Andover by Unique Dining Experiences!
X-ALT-DESC;FMTTYPE=text/html:Please come celebrate with us the ribbon cutting of Courtyards of Andover by Unique Dining Experiences!
LOCATION:13545 Martin St. NE Andover
UID:e.380.148942
SEQUENCE:3
DTSTAMP:20260424T210808Z
URL:http://members.metronorthchamber.org/events/details/ribbon-cutting-for-courtyards-of-andover-by-unique-dining-experiences-06-06-2013-148942
END:VEVENT

END:VCALENDAR
