BEGIN:VCALENDAR
VERSION:2.0
PRODID:-//ChamberMaster//Event Calendar 2.0//EN
METHOD:PUBLISH
X-PUBLISHED-TTL:P3D
REFRESH-INTERVAL:P3D
CALSCALE:GREGORIAN
BEGIN:VEVENT
DTSTART:20191210T173000Z
DTEND:20191210T180000Z
X-MICROSOFT-CDO-ALLDAYEVENT:FALSE
SUMMARY:Ribbon Cutting for Coldwell Banker Burnet
DESCRIPTION:Come celebrate new member Coldwell Banker Burnet's grand opening of their Blaine location! Ribbon will be cut at 11:45 am\, then stay for snacks and tours.
X-ALT-DESC;FMTTYPE=text/html:Come celebrate new member Coldwell Banker Burnet&#39\;s grand opening of their Blaine location! Ribbon will be cut at 11:45 am\, then stay for snacks and tours.
LOCATION:10450 Baltimore Street NE\, Suite 170 Blaine 55448
UID:e.380.191734
SEQUENCE:3
DTSTAMP:20260419T142737Z
URL:http://members.metronorthchamber.org/events/details/ribbon-cutting-for-coldwell-banker-burnet-191734
END:VEVENT

END:VCALENDAR
