BEGIN:VCALENDAR
VERSION:2.0
PRODID:-//ChamberMaster//Event Calendar 2.0//EN
METHOD:PUBLISH
X-PUBLISHED-TTL:P3D
REFRESH-INTERVAL:P3D
CALSCALE:GREGORIAN
BEGIN:VEVENT
DTSTART:20120413T210000Z
DTEND:20120413T220000Z
X-MICROSOFT-CDO-ALLDAYEVENT:FALSE
SUMMARY:Ribbon Cutting for Cityside Bar & Grill
DESCRIPTION:Cityside Bar & Grill was temporarily closed for business due to a water pipe break. Please show your support for this local business and celebrate the Ribbon Cutting and Grand Re-Opening of Cityside Bar & Grill in Coon Rapids on Friday\, April 13th at 4pm!\n\n\n\nAppetizers\n\nHappy Hour until 6 p.m.\n\nDrawings for free drinks and $25 and $50 gift cards
X-ALT-DESC;FMTTYPE=text/html:<br />\n<span style="color: #000080"><span style="font-size: 11px"><span style="font-family: tahoma"><span>Cityside Bar &amp\; Grill was temporarily closed for business due to a water pipe break. Please show your support for this local business and <span>celebrate the Ribbon Cutting and Grand Re-Opening of Cityside Bar &amp\; Grill in Coon Rapids on Friday\, April 13th at 4pm!<br />\n<br />\nAppetizers<br />\nHappy Hour until 6 p.m.<br />\nDrawings for free drinks and $25 and $50 gift cards</span></span></span></span></span><br />\n<br />\n<br />\n
LOCATION:133 Coon Rapids Blvd. NW\, Coon Rapids\, MN 55433
UID:e.380.143497
SEQUENCE:3
DTSTAMP:20260425T193507Z
URL:http://members.metronorthchamber.org/events/details/ribbon-cutting-for-cityside-bar-grill-04-13-2012-143497
END:VEVENT

END:VCALENDAR
