BEGIN:VCALENDAR
VERSION:2.0
PRODID:-//ChamberMaster//Event Calendar 2.0//EN
METHOD:PUBLISH
X-PUBLISHED-TTL:P3D
REFRESH-INTERVAL:P3D
CALSCALE:GREGORIAN
BEGIN:VEVENT
DTSTART:20131105T180000Z
DTEND:20131105T183000Z
X-MICROSOFT-CDO-ALLDAYEVENT:FALSE
SUMMARY:Ribbon Cutting for Christian Brothers Automotive
DESCRIPTION:Please come celebrate with us the grand opening and ribbon cutting of Christian Brothers Automotive!  Coffee and cake served.\n\n\n\nThis ribbon cutting will take place promptly at noon.\n\n\n\nAmbassador Team 1
X-ALT-DESC;FMTTYPE=text/html:Please come celebrate with us the grand opening and ribbon cutting of Christian Brothers Automotive!&nbsp\; Coffee and cake served.<br />\n<br />\nThis ribbon cutting will take place promptly at noon.<br />\n<br />\nAmbassador Team 1
LOCATION:Christian Brothers Automotive 1716 Bunker Lake Blvd. NW Andover\, MN 55304
UID:e.380.149698
SEQUENCE:3
DTSTAMP:20260424T125241Z
URL:http://members.metronorthchamber.org/events/details/ribbon-cutting-for-christian-brothers-automotive-11-05-2013-149698
END:VEVENT

END:VCALENDAR
