BEGIN:VCALENDAR
VERSION:2.0
PRODID:-//ChamberMaster//Event Calendar 2.0//EN
METHOD:PUBLISH
X-PUBLISHED-TTL:P3D
REFRESH-INTERVAL:P3D
CALSCALE:GREGORIAN
BEGIN:VEVENT
DTSTART:20140404T140000Z
DTEND:20140404T140000Z
X-MICROSOFT-CDO-ALLDAYEVENT:FALSE
SUMMARY:Ribbon Cutting for ChiroWay of Blaine
DESCRIPTION:Please come celebrate with us the ribbon cutting of ChiroWay of Blaine!
X-ALT-DESC;FMTTYPE=text/html:Please come celebrate with us the ribbon cutting of ChiroWay of Blaine!
LOCATION:1572 125th Ave. NE Blaine\, MN 55449
UID:e.380.150329
SEQUENCE:3
DTSTAMP:20260424T044546Z
URL:http://members.metronorthchamber.org/events/details/ribbon-cutting-for-chiroway-of-blaine-04-04-2014-150329
END:VEVENT

END:VCALENDAR
