BEGIN:VCALENDAR
VERSION:2.0
PRODID:-//ChamberMaster//Event Calendar 2.0//EN
METHOD:PUBLISH
X-PUBLISHED-TTL:P3D
REFRESH-INTERVAL:P3D
CALSCALE:GREGORIAN
BEGIN:VEVENT
DTSTART:20130618T210000Z
DTEND:20130618T213000Z
X-MICROSOFT-CDO-ALLDAYEVENT:FALSE
SUMMARY:Ribbon Cutting for Centerstone Suites Blaine
DESCRIPTION:Please come celebrate with us the ribbon cutting of Centerstone Suites Blaine (formerly Comfort Suites)!  Open House begins at 2 pm - Ribbon cutting to take place promptly at 4 pm.
X-ALT-DESC;FMTTYPE=text/html:Please come celebrate with us the ribbon cutting of Centerstone Suites Blaine (formerly Comfort Suites)!&nbsp\; Open House begins at 2 pm - <span style="color: #ff0000"><strong>Ribbon cutting to take place promptly at 4 pm.</strong></span><br />\n
LOCATION:10580 Baltimore St. NE. Blaine
UID:e.380.148944
SEQUENCE:3
DTSTAMP:20260424T210956Z
URL:http://members.metronorthchamber.org/events/details/ribbon-cutting-for-centerstone-suites-blaine-06-18-2013-148944
END:VEVENT

END:VCALENDAR
