BEGIN:VCALENDAR
VERSION:2.0
PRODID:-//ChamberMaster//Event Calendar 2.0//EN
METHOD:PUBLISH
X-PUBLISHED-TTL:P3D
REFRESH-INTERVAL:P3D
CALSCALE:GREGORIAN
BEGIN:VEVENT
DTSTART:20120510T203000Z
DTEND:20120510T213000Z
X-MICROSOFT-CDO-ALLDAYEVENT:FALSE
SUMMARY:Ribbon Cutting for Cardinal Stritch University of Coon Rapids
DESCRIPTION:Come celebrate with us the ribbon cutting of Cardinal Stritch University's Coon Rapids campus!  There will be appetizers/refreshments.
X-ALT-DESC;FMTTYPE=text/html:Come&nbsp\;celebrate with us the ribbon cutting of&nbsp\;Cardinal Stritch University&#39\;s Coon Rapids campus!&nbsp\; There will be appetizers/refreshments.
LOCATION:Cardinal Stritch University 9145 Springbrook Dr. Ste # 203 Coon Rapids\, MN 55433
UID:e.380.143797
SEQUENCE:3
DTSTAMP:20260425T181114Z
URL:http://members.metronorthchamber.org/events/details/ribbon-cutting-for-cardinal-stritch-university-of-coon-rapids-05-10-2012-143797
END:VEVENT

END:VCALENDAR
