BEGIN:VCALENDAR
VERSION:2.0
PRODID:-//ChamberMaster//Event Calendar 2.0//EN
METHOD:PUBLISH
X-PUBLISHED-TTL:P3D
REFRESH-INTERVAL:P3D
CALSCALE:GREGORIAN
BEGIN:VEVENT
DTSTART:20131118T160000Z
DTEND:20131118T163000Z
X-MICROSOFT-CDO-ALLDAYEVENT:FALSE
SUMMARY:Ribbon Cutting for Buffalo Wild Wings - Blaine
DESCRIPTION:Please come join us for the Ribbon Cutting and Grand Opening of Buffalo Wild Wings in Blaine!\n\n\n\nThis ribbon cutting will take place promptly at 10 a.m.\n\n\n\nAmbassador Team 1
X-ALT-DESC;FMTTYPE=text/html:Please come join us for the Ribbon Cutting and Grand Opening of Buffalo Wild Wings in Blaine!<br />\n<br />\nThis ribbon cutting will take place promptly at 10 a.m.<br />\n<br />\nAmbassador Team 1
LOCATION:Buffalo Wild Wings 1520 109th Ave. Ste # 300 Blaine\, MN 55434
UID:e.380.149715
SEQUENCE:3
DTSTAMP:20260424T125133Z
URL:http://members.metronorthchamber.org/events/details/ribbon-cutting-for-buffalo-wild-wings-blaine-11-18-2013-149715
END:VEVENT

END:VCALENDAR
