BEGIN:VCALENDAR
VERSION:2.0
PRODID:-//ChamberMaster//Event Calendar 2.0//EN
METHOD:PUBLISH
X-PUBLISHED-TTL:P3D
REFRESH-INTERVAL:P3D
CALSCALE:GREGORIAN
BEGIN:VEVENT
DTSTART:20190926T230000Z
DTEND:20190927T000000Z
X-MICROSOFT-CDO-ALLDAYEVENT:FALSE
SUMMARY:Ribbon Cutting for Brookside Elementary
DESCRIPTION:Please join Anoka-Hennepin School District in celebrating the opening of Brookside Elementary School in Ramsey. There will be ice cream\, tours and a ribbon cutting.
X-ALT-DESC;FMTTYPE=text/html:<span style="color: rgb(51\, 51\, 51)\; font-family: sans-serif\, Arial\, Verdana\, &quot\;Trebuchet MS&quot\;\; font-size: 13px\; background-color: rgb(255\, 255\, 255)\;">Please join Anoka-Hennepin School District in celebrating the opening of Brookside Elementary School in Ramsey. There will be ice cream\, tours and a ribbon cutting.&nbsp\;</span>
LOCATION:17003 Nowthen Boulevard NW Ramsey 55303
UID:e.380.191161
SEQUENCE:3
DTSTAMP:20260419T192748Z
URL:http://members.metronorthchamber.org/events/details/ribbon-cutting-for-brookside-elementary-191161
END:VEVENT

END:VCALENDAR
