BEGIN:VCALENDAR
VERSION:2.0
PRODID:-//ChamberMaster//Event Calendar 2.0//EN
METHOD:PUBLISH
X-PUBLISHED-TTL:P3D
REFRESH-INTERVAL:P3D
CALSCALE:GREGORIAN
BEGIN:VEVENT
DTSTART:20141014T210000Z
DTEND:20141014T213000Z
X-MICROSOFT-CDO-ALLDAYEVENT:FALSE
SUMMARY:Ribbon Cutting for Blaine Family Chiropractic
DESCRIPTION:Please come join us as we celebrate the ribbon cutting and grand opening of Blaine Family Chiropractic!
X-ALT-DESC;FMTTYPE=text/html:Please come join us as we celebrate the ribbon cutting and grand opening of Blaine Family Chiropractic!
LOCATION:Blaine Family Chiropractic 10950 Club West Pkwy. Ste. 110 Blaine
UID:e.380.151615
SEQUENCE:3
DTSTAMP:20260423T192532Z
URL:http://members.metronorthchamber.org/events/details/ribbon-cutting-for-blaine-family-chiropractic-10-14-2014-151615
END:VEVENT

END:VCALENDAR
