BEGIN:VCALENDAR
VERSION:2.0
PRODID:-//ChamberMaster//Event Calendar 2.0//EN
METHOD:PUBLISH
X-PUBLISHED-TTL:P3D
REFRESH-INTERVAL:P3D
CALSCALE:GREGORIAN
BEGIN:VEVENT
DTSTART:20141022T153000Z
DTEND:20141022T160000Z
X-MICROSOFT-CDO-ALLDAYEVENT:FALSE
SUMMARY:Ribbon Cutting for Best Light Image
DESCRIPTION:Please come join us as we celebrate the ribbon cutting of Best Light Image Video Marketing Specialists\, immediately following Working with Women!!
X-ALT-DESC;FMTTYPE=text/html:Please come join us as we celebrate the ribbon cutting of Best Light Image Video Marketing Specialists\, immediately following Working with Women!!
LOCATION:Immediately following Working with Women at Rasmussen College: 3629 95th Ave. NE\, Blaine
UID:e.380.151559
SEQUENCE:3
DTSTAMP:20260423T192057Z
URL:http://members.metronorthchamber.org/events/details/ribbon-cutting-for-best-light-image-10-22-2014-151559
END:VEVENT

END:VCALENDAR
