BEGIN:VCALENDAR
VERSION:2.0
PRODID:-//ChamberMaster//Event Calendar 2.0//EN
METHOD:PUBLISH
X-PUBLISHED-TTL:P3D
REFRESH-INTERVAL:P3D
CALSCALE:GREGORIAN
BEGIN:VEVENT
DTSTART:20120323T140000Z
DTEND:20120323T150000Z
X-MICROSOFT-CDO-ALLDAYEVENT:FALSE
SUMMARY:Ribbon Cutting for Artistic Treasures
DESCRIPTION:Celebrate with us at the Artistic Treasures ribbon cutting on March 23rd at 9am and enjoy complementary coffee and pastries while you browse through their excellent merchandise and network with other Chamber members!\n\n\n\nArtistic Treasures will give all that attend a discount coupon they can use that day\, or within 30 days and they will also be holding a special prize drawing for attendees!
X-ALT-DESC;FMTTYPE=text/html:<br />\n<span style="color:#000080\;"><span style="font-size: 11px\;"><span style="font-family: tahoma\;">Celebrate with us at the Artistic Treasures ribbon cutting on March 23rd at 9am and enjoy complementary coffee and pastries while you browse through their excellent merchandise and network with other Chamber members!<br />\n<br />\nArtistic Treasures will give all that attend a discount coupon they can use that day\, or within 30 days and they will also be holding a special prize drawing for attendees!</span></span></span>
LOCATION:Artistic Treasures 13625 Quinn Street NW Andover\, MN 55304
UID:e.380.143496
SEQUENCE:3
DTSTAMP:20260425T211146Z
URL:http://members.metronorthchamber.org/events/details/ribbon-cutting-for-artistic-treasures-03-23-2012-143496
END:VEVENT

END:VCALENDAR
