BEGIN:VCALENDAR
VERSION:2.0
PRODID:-//ChamberMaster//Event Calendar 2.0//EN
METHOD:PUBLISH
X-PUBLISHED-TTL:P3D
REFRESH-INTERVAL:P3D
CALSCALE:GREGORIAN
BEGIN:VEVENT
DTSTART:20131022T130000Z
DTEND:20131022T133000Z
X-MICROSOFT-CDO-ALLDAYEVENT:FALSE
SUMMARY:Ribbon Cutting for Arbor Oaks of Andover
DESCRIPTION:Come celebrate with us the ribbon cutting and grand opening of Arbor Oaks of Andover!\n\n\n\nAmbassador Team 2
X-ALT-DESC;FMTTYPE=text/html:Come celebrate with us the ribbon cutting and grand opening of Arbor Oaks of Andover!<br />\n<br />\nAmbassador Team 2
LOCATION:1640 155th Lane NW Andover\, MN 55304
UID:e.380.149646
SEQUENCE:3
DTSTAMP:20260424T144423Z
URL:http://members.metronorthchamber.org/events/details/ribbon-cutting-for-arbor-oaks-of-andover-10-22-2013-149646
END:VEVENT

END:VCALENDAR
