BEGIN:VCALENDAR
VERSION:2.0
PRODID:-//ChamberMaster//Event Calendar 2.0//EN
METHOD:PUBLISH
X-PUBLISHED-TTL:P3D
REFRESH-INTERVAL:P3D
CALSCALE:GREGORIAN
BEGIN:VEVENT
DTSTART:20120406T140000Z
DTEND:20120406T143000Z
X-MICROSOFT-CDO-ALLDAYEVENT:FALSE
SUMMARY:Ribbon Cutting for Anoka-Champlin Meals on Wheels
DESCRIPTION:Celebrate the Anoka-Champlin Meals on Wheels Ribbon Cutting at Perkins immediately following the Sunrise Breakfast!
X-ALT-DESC;FMTTYPE=text/html:<br />\n<span style="font-size:11px\;"><span style="font-family: tahoma\;"><span style="color: rgb(0\, 0\, 128)\;"><span>Celebrate the Anoka-Champlin Meals on Wheels Ribbon Cutting at <span>Perkins </span></span><span>immediately following the Sunrise Breakfast!</span></span></span></span>
LOCATION:Perkins\, 12545 Ulysses St\, (Hwy 65 and Cty Rd 14)\, Blaine
UID:e.380.143501
SEQUENCE:3
DTSTAMP:20260425T192703Z
URL:http://members.metronorthchamber.org/events/details/ribbon-cutting-for-anoka-champlin-meals-on-wheels-04-06-2012-143501
END:VEVENT

END:VCALENDAR
