BEGIN:VCALENDAR
VERSION:2.0
PRODID:-//ChamberMaster//Event Calendar 2.0//EN
METHOD:PUBLISH
X-PUBLISHED-TTL:P3D
REFRESH-INTERVAL:P3D
CALSCALE:GREGORIAN
BEGIN:VEVENT
DTSTART:20190315T140000Z
DTEND:20190315T141500Z
X-MICROSOFT-CDO-ALLDAYEVENT:FALSE
SUMMARY:Ribbon Cutting for AngCo - 10 Year Anniversary
DESCRIPTION:Join us in celebrating AngCo's 10 year anniversary. We will be cutting the ribbon immediately following the third Friday Sunrise\, at approximately 9 am. Please stay and help AngCo celebrate!
X-ALT-DESC;FMTTYPE=text/html:Join us in celebrating AngCo&#39\;s 10 year anniversary. We will be cutting the ribbon immediately following the third Friday Sunrise\, at approximately 9 am. Please stay and help AngCo celebrate!
LOCATION:Sticks & Stones 9250 Lincoln Street (Fogerty Arena) Blaine 55434
UID:e.380.188457
SEQUENCE:3
DTSTAMP:20260420T060338Z
URL:http://members.metronorthchamber.org/events/details/ribbon-cutting-for-angco-10-year-anniversary-188457
END:VEVENT

END:VCALENDAR
