BEGIN:VCALENDAR
VERSION:2.0
PRODID:-//ChamberMaster//Event Calendar 2.0//EN
METHOD:PUBLISH
X-PUBLISHED-TTL:P3D
REFRESH-INTERVAL:P3D
CALSCALE:GREGORIAN
BEGIN:VEVENT
DTSTART:20140109T180000Z
DTEND:20140109T183000Z
X-MICROSOFT-CDO-ALLDAYEVENT:FALSE
SUMMARY:Ribbon Cutting for American Family Insurance - Kari Hefnider Agency
DESCRIPTION:Please come celebrate with us the move of American Family Insurance - Kari Hefnider!\n\n\n\nAmerican Family Insurance - Kari Hefnider Agency\n\n1902 5th Ave Ste 1\n\nAnoka\, MN 55303\n\n\n\nAmbassador Team 1
X-ALT-DESC;FMTTYPE=text/html:Please come celebrate with us the move of American Family Insurance - Kari Hefnider!<br />\n<br />\nAmerican Family Insurance - Kari Hefnider Agency<br />\n<span style="font-size: 12pt"><span style="font-family: times new roman\, serif">1902 5th Ave Ste 1<br />\nAnoka\, MN 55303<br />\n<br />\nAmbassador Team 1</span></span>
LOCATION:American Family Insurance Kari Hefnider Agency 1902 5th Ave. Ste # 1 Anoka\, MN 55303
UID:e.380.149999
SEQUENCE:3
DTSTAMP:20260424T093440Z
URL:http://members.metronorthchamber.org/events/details/ribbon-cutting-for-american-family-insurance-kari-hefnider-agency-01-09-2014-149999
END:VEVENT

END:VCALENDAR
