BEGIN:VCALENDAR
VERSION:2.0
PRODID:-//ChamberMaster//Event Calendar 2.0//EN
METHOD:PUBLISH
X-PUBLISHED-TTL:P3D
REFRESH-INTERVAL:P3D
CALSCALE:GREGORIAN
BEGIN:VEVENT
DTSTART:20130227T163000Z
DTEND:20130227T173000Z
X-MICROSOFT-CDO-ALLDAYEVENT:FALSE
SUMMARY:Ribbon Cutting for A Touch of Class
DESCRIPTION:Please join us as we celebrate a ribbon cutting for A Touch of Class!
X-ALT-DESC;FMTTYPE=text/html:<p>\n	Please join us as we celebrate a ribbon cutting for A Touch of Class!</p>\n
LOCATION:Rasmussen College 3629 95th Ave. NE Blaine\, MN 55014
UID:e.380.147697
SEQUENCE:3
DTSTAMP:20260425T033913Z
URL:http://members.metronorthchamber.org/events/details/ribbon-cutting-for-a-touch-of-class-02-27-2013-147697
END:VEVENT

END:VCALENDAR
