BEGIN:VCALENDAR
VERSION:2.0
PRODID:-//ChamberMaster//Event Calendar 2.0//EN
METHOD:PUBLISH
X-PUBLISHED-TTL:P3D
REFRESH-INTERVAL:P3D
CALSCALE:GREGORIAN
BEGIN:VEVENT
DTSTART:20170520T180000Z
DTEND:20170520T190000Z
X-MICROSOFT-CDO-ALLDAYEVENT:FALSE
SUMMARY:Ribbon Cutting - FN Bargains
DESCRIPTION:Our New Chamber member FN Bargains is having a ribbon cutting during their Grand Opening celebration event at 1 pm on Saturday May 20th.  They are featuring live music\, BBQ\, a bouncy house\, and more!
X-ALT-DESC;FMTTYPE=text/html:<span style="font-family:calibri\,sans-serif\;"><span style="font-size:11.0pt\;">Our New Chamber member FN Bargains is having a ribbon cutting during their Grand Opening celebration event at 1 pm on Saturday May 20th.&nbsp\; They are featuring live music\, BBQ\, a bouncy house\, and more!&nbsp\;</span></span>
LOCATION:16525 MN Hwy 65 NE Ham Lake
UID:e.380.175023
SEQUENCE:3
DTSTAMP:20260421T152844Z
URL:http://members.metronorthchamber.org/events/details/ribbon-cutting-fn-bargains-175023
END:VEVENT

END:VCALENDAR
