BEGIN:VCALENDAR
VERSION:2.0
PRODID:-//ChamberMaster//Event Calendar 2.0//EN
METHOD:PUBLISH
X-PUBLISHED-TTL:P3D
REFRESH-INTERVAL:P3D
CALSCALE:GREGORIAN
BEGIN:VEVENT
DTSTART:20180831T140000Z
DTEND:20180831T141500Z
X-MICROSOFT-CDO-ALLDAYEVENT:FALSE
SUMMARY:Ribbon Cutting - Fire Fitness Ham Lake
DESCRIPTION:Join us after Sunrise breakfast for the Official Ribbon Cutting\n\nWelcoming Fire Fitness to the Chamber.
X-ALT-DESC;FMTTYPE=text/html:Join us after Sunrise breakfast for the Official Ribbon Cutting<br />\nWelcoming Fire Fitness to the Chamber.
LOCATION:Fire Fitness 14050 Lincoln Street NE Suite 400 Ham Lake\, MN 55304 (763) 270-0567 (work)
UID:e.380.184804
SEQUENCE:3
DTSTAMP:20260420T183117Z
URL:http://members.metronorthchamber.org/events/details/ribbon-cutting-fire-fitness-ham-lake-184804
END:VEVENT

END:VCALENDAR
