BEGIN:VCALENDAR
VERSION:2.0
PRODID:-//ChamberMaster//Event Calendar 2.0//EN
METHOD:PUBLISH
X-PUBLISHED-TTL:P3D
REFRESH-INTERVAL:P3D
CALSCALE:GREGORIAN
BEGIN:VEVENT
DTSTART:20181102T140000Z
DTEND:20181102T141500Z
X-MICROSOFT-CDO-ALLDAYEVENT:FALSE
SUMMARY:Ribbon Cutting - Financial Education Services
DESCRIPTION:Join us after the Sunrise Breakfast for a Ribbon Cutting
X-ALT-DESC;FMTTYPE=text/html:Join us after the Sunrise Breakfast for a Ribbon Cutting
LOCATION:The Tavern Grill
UID:e.380.187300
SEQUENCE:3
DTSTAMP:20260420T121422Z
URL:http://members.metronorthchamber.org/events/details/ribbon-cutting-financial-education-services-187300
END:VEVENT

END:VCALENDAR
