BEGIN:VCALENDAR
VERSION:2.0
PRODID:-//ChamberMaster//Event Calendar 2.0//EN
METHOD:PUBLISH
X-PUBLISHED-TTL:P3D
REFRESH-INTERVAL:P3D
CALSCALE:GREGORIAN
BEGIN:VEVENT
DTSTART:20170406T210000Z
DTEND:20170406T220000Z
X-MICROSOFT-CDO-ALLDAYEVENT:FALSE
SUMMARY:Ribbon Cutting - Fibrenew
DESCRIPTION:Help us celebrate with New Brighton Fibrenew's new location with a Ribbon Cutting. (New shop space)
X-ALT-DESC;FMTTYPE=text/html:Help us celebrate with New Brighton Fibrenew&#39\;s&nbsp\;new location with a Ribbon Cutting. (New shop space)
LOCATION:Fibrenew 5007 University Avenue NE Columbia Heights 55421
UID:e.380.171476
SEQUENCE:3
DTSTAMP:20260421T170837Z
URL:http://members.metronorthchamber.org/events/details/ribbon-cutting-fibrenew-171476
END:VEVENT

END:VCALENDAR
