BEGIN:VCALENDAR
VERSION:2.0
PRODID:-//ChamberMaster//Event Calendar 2.0//EN
METHOD:PUBLISH
X-PUBLISHED-TTL:P3D
REFRESH-INTERVAL:P3D
CALSCALE:GREGORIAN
BEGIN:VEVENT
DTSTART:20170221T220000Z
DTEND:20170221T224500Z
X-MICROSOFT-CDO-ALLDAYEVENT:FALSE
SUMMARY:Ribbon Cutting - Farmers Insurance
DESCRIPTION:Please help us celebrate the Grand Opening of Farmers Insurance in Lino Lakes with a Ribbon Cutting. They will be having refreshment and doing a drawing for all guests.
X-ALT-DESC;FMTTYPE=text/html:Please help us celebrate the Grand Opening of Farmers Insurance in Lino Lakes with a Ribbon Cutting. They will be having refreshment and doing a drawing for all guests.
LOCATION:Farmers Insurance 7960 Lake Dr Lino Lakes\, MN 55014-1153
UID:e.380.171386
SEQUENCE:3
DTSTAMP:20260421T221642Z
URL:http://members.metronorthchamber.org/events/details/ribbon-cutting-farmers-insurance-171386
END:VEVENT

END:VCALENDAR
