BEGIN:VCALENDAR
VERSION:2.0
PRODID:-//ChamberMaster//Event Calendar 2.0//EN
METHOD:PUBLISH
X-PUBLISHED-TTL:P3D
REFRESH-INTERVAL:P3D
CALSCALE:GREGORIAN
BEGIN:VEVENT
DTSTART:20130509T210000Z
DTEND:20130509T213000Z
X-MICROSOFT-CDO-ALLDAYEVENT:FALSE
SUMMARY:Ribbon Cutting\, Evolve Systems
DESCRIPTION:Please come celebrate with us the ribbon cutting of the new Evolve Systems location!
X-ALT-DESC;FMTTYPE=text/html:<span style="color:#000080\;"><span style="font-size: 11px\;"><span style="font-family: tahoma\;">Please come celebrate with us the ribbon cutting of the new Evolve Systems location!</span></span></span>
LOCATION:2974 Rice Street Little Canada\, MN 55113
UID:e.380.148908
SEQUENCE:3
DTSTAMP:20260425T001748Z
URL:http://members.metronorthchamber.org/events/details/ribbon-cutting-evolve-systems-05-09-2013-148908
END:VEVENT

END:VCALENDAR
