BEGIN:VCALENDAR
VERSION:2.0
PRODID:-//ChamberMaster//Event Calendar 2.0//EN
METHOD:PUBLISH
X-PUBLISHED-TTL:P3D
REFRESH-INTERVAL:P3D
CALSCALE:GREGORIAN
BEGIN:VEVENT
DTSTART:20160324T211500Z
DTEND:20160324T214500Z
X-MICROSOFT-CDO-ALLDAYEVENT:FALSE
SUMMARY:Ribbon Cutting - Eve & Me Boutique
DESCRIPTION:Help celebrate the new membership of Eve & Me Boutique. They will be celebrating with a ribbon cutting on Thursday March 24th\,  4:15-4:45 pm. We will cut the ribbon at 4:30 pm.\n\n\n\nEve & Me Boutique will provide wine\, cupcakes from Sweets by Maddie Lu. they will also be offering a special ribbon cutting discount for anyone who attends that day.
X-ALT-DESC;FMTTYPE=text/html:Help celebrate the new membership of Eve &amp\; Me Boutique. They will be celebrating with a ribbon cutting on Thursday March 24th\, &nbsp\;4:15-4:45&nbsp\;pm. We will cut the ribbon at 4:30&nbsp\;pm.<br />\n<br />\nEve &amp\; Me Boutique will provide wine\, cupcakes from Sweets by Maddie&nbsp\;Lu. they will also be offering a special ribbon cutting discount for anyone who attends that day.
LOCATION:Eve & Me Boutique 3603 Round Lake Boulevard Suite 101 Anoka\, MN 55303
UID:e.380.163813
SEQUENCE:3
DTSTAMP:20260422T163741Z
URL:http://members.metronorthchamber.org/events/details/ribbon-cutting-eve-me-boutique-03-24-2016-163813
END:VEVENT

END:VCALENDAR
