BEGIN:VCALENDAR
VERSION:2.0
PRODID:-//ChamberMaster//Event Calendar 2.0//EN
METHOD:PUBLISH
X-PUBLISHED-TTL:P3D
REFRESH-INTERVAL:P3D
CALSCALE:GREGORIAN
BEGIN:VEVENT
DTSTART:20160216T180000Z
DTEND:20160216T183000Z
X-MICROSOFT-CDO-ALLDAYEVENT:FALSE
SUMMARY:Ribbon Cutting - Edgemont Place Alzheimer's Center
DESCRIPTION:Edgemont Place Alzheimer's Special Care Center is very excited to announce the Ribbon Cutting of their new facility. They will be inviting attendees into their new facility for a reception which will feature finger sandwiches\, fresh fruit and vegetables\, dessert & beverages.
X-ALT-DESC;FMTTYPE=text/html:Edgemont Place Alzheimer&#39\;s Special Care Center is very excited to announce the Ribbon Cutting of their new facility. They will be inviting attendees into their new facility for a reception which will feature finger sandwiches\, fresh fruit and vegetables\, dessert &amp\; beverages.
LOCATION:Edgemont Place Alzheimer's Special Care Center 11748 Ulysses Lane NE Blaine\, MN 55434
UID:e.380.161930
SEQUENCE:3
DTSTAMP:20260422T180341Z
URL:http://members.metronorthchamber.org/events/details/ribbon-cutting-edgemont-place-alzheimer-s-center-02-16-2016-161930
END:VEVENT

END:VCALENDAR
