BEGIN:VCALENDAR
VERSION:2.0
PRODID:-//ChamberMaster//Event Calendar 2.0//EN
METHOD:PUBLISH
X-PUBLISHED-TTL:P3D
REFRESH-INTERVAL:P3D
CALSCALE:GREGORIAN
BEGIN:VEVENT
DTSTART:20120914T170000Z
DTEND:20120914T173000Z
X-MICROSOFT-CDO-ALLDAYEVENT:FALSE
SUMMARY:Ribbon Cutting\, Divine Photography
DESCRIPTION:Come join us for the Ribbon Cutting of Divine Photography's home studio!  There will be snacks\, a drawing\, and opportunities for   price* professional head shots. \n\n	\n\n	*Professional head shots will be done following the ribbon cutting.  Sale price: $50 paid by check or prepaid by paypal. Client will receive 1 edited image for print or web use. Please call Jenny with Divine Photography at 612-387-7573 or email jenny@divinephoto.net to schedule your head shot.\n\n	\n\n	Friday\, September 14th at noon\n\n	Divine Photography Studio\n\n	The home of Jenny and Gordy Hansen\n\n	7005 151st Avenue NW Ramsey\, MN 55303 \n	\n		Jenny with Divine Photography & Connie Schmidt with Arbonne are teaming up to have a nice head shot taken with beautiful natural make up applied!  Total price for both services is only $60!  This reflects a 50% discount from Divine Photography!  No need to sign up in advance but get there early to sign up for your place in line.  \n	\n		This event will take place twice!  First time will be after the Working With Women meeting on 8/22 and the second time will be at Divine Photography's ribbon cutting in Ramsey on 9/14.
X-ALT-DESC;FMTTYPE=text/html:<div style="color: gray">\n	<span style="font-size: 14px"><span style="font-family: arial">Come join us for the Ribbon Cutting of Divine Photography&#39\;s&nbsp\;home studio!&nbsp\; There will be snacks\, a drawing\, and opportunities for &frac12\; price* professional head shots.&nbsp\;<br />\n	<br />\n	*Professional head shots will be done following the ribbon cutting.&nbsp\; Sale price: $50 paid by check or prepaid by paypal. Client will receive 1 edited image for print or web use. Please call Jenny with Divine Photography at 612-387-7573 </span></span><span style="font-size: 14px"><span style="font-family: arial">or email <a href="http://jenny@divinephoto.net">jenny@divinephoto.net</a> </span></span><span style="font-size: 14px"><span style="font-family: arial">to schedule your head shot.<br />\n	<br />\n	Friday\, September 14<sup>th</sup> at noon<br />\n	Divine Photography Studio<br />\n	The home of Jenny and Gordy&nbsp\;Hansen<br />\n	7005 151st Avenue NW Ramsey\, MN 55303</span></span><span _fck_bookmark="1" style="display: none">&nbsp\;</span>\n	<p>\n		Jenny with Divine Photography &amp\; Connie Schmidt with Arbonne are teaming up to have a nice head shot taken with beautiful natural make up applied!&nbsp\; Total price for both services is only $60!&nbsp\; This reflects a 50% discount from Divine Photography!&nbsp\; No need to sign up in advance but get there early to sign up for your place in line.&nbsp\;&nbsp\;</p>\n	<p>\n		This event will take place twice!&nbsp\; First time will be after the Working With Women meeting on 8/22 and the second time will be at Divine Photography&#39\;s ribbon cutting in Ramsey on 9/14.<br />\n		<span _fck_bookmark="1" style="display: none">&nbsp\;</span></p>\n</div>\n
LOCATION:Home of Jenny & Gordy Hansen 7005 151st Ave. NW Ramsey\, MN 55303
UID:e.380.146197
SEQUENCE:3
DTSTAMP:20260425T113905Z
URL:http://members.metronorthchamber.org/events/details/ribbon-cutting-divine-photography-09-14-2012-146197
END:VEVENT

END:VCALENDAR
