BEGIN:VCALENDAR
VERSION:2.0
PRODID:-//ChamberMaster//Event Calendar 2.0//EN
METHOD:PUBLISH
X-PUBLISHED-TTL:P3D
REFRESH-INTERVAL:P3D
CALSCALE:GREGORIAN
BEGIN:VEVENT
DTSTART:20170712T210000Z
DTEND:20170712T220000Z
X-MICROSOFT-CDO-ALLDAYEVENT:FALSE
SUMMARY:Ribbon Cutting - Designer Sign Systems
DESCRIPTION:Designer Sign Systems will be having a ribbon cutting for the unveiling of their new sign! Potluck style food and drinks will be provided
X-ALT-DESC;FMTTYPE=text/html:Designer Sign Systems will be having a ribbon cutting for the unveiling of their new sign! Potluck style food and drinks will be provided
LOCATION:Designer Sign Systems 9975 Flanders Court NE Blaine
UID:e.380.175099
SEQUENCE:3
DTSTAMP:20260421T121354Z
URL:http://members.metronorthchamber.org/events/details/ribbon-cutting-designer-sign-systems-175099
END:VEVENT

END:VCALENDAR
