BEGIN:VCALENDAR
VERSION:2.0
PRODID:-//ChamberMaster//Event Calendar 2.0//EN
METHOD:PUBLISH
X-PUBLISHED-TTL:P3D
REFRESH-INTERVAL:P3D
CALSCALE:GREGORIAN
BEGIN:VEVENT
DTSTART:20180717T203000Z
DTEND:20180717T210000Z
X-MICROSOFT-CDO-ALLDAYEVENT:FALSE
SUMMARY:Ribbon Cutting - Dermillusion
DESCRIPTION:Join us in welcoming Dermillusion to the Chamber!
X-ALT-DESC;FMTTYPE=text/html:Join us in welcoming Dermillusion to the Chamber!
LOCATION:Summit Professional Building 913 Manor Drive #201 Spring Lake Park\, MN 55432760-799-5295tina@tinaklee.com
UID:e.380.184862
SEQUENCE:3
DTSTAMP:20260420T182534Z
URL:http://members.metronorthchamber.org/events/details/ribbon-cutting-dermillusion-184862
END:VEVENT

END:VCALENDAR
