BEGIN:VCALENDAR
VERSION:2.0
PRODID:-//ChamberMaster//Event Calendar 2.0//EN
METHOD:PUBLISH
X-PUBLISHED-TTL:P3D
REFRESH-INTERVAL:P3D
CALSCALE:GREGORIAN
BEGIN:VEVENT
DTSTART:20180713T170000Z
DTEND:20180713T173000Z
X-MICROSOFT-CDO-ALLDAYEVENT:FALSE
SUMMARY:Ribbon Cutting - Crystal House Boutique
DESCRIPTION:Please join us welcoming Crystal House Boutique to the Metro North Chamber!\n\nLight lunch and refreshments will be served.\n\n25% discount storewide from 12 noon - 4:00 pm.\n\nWe hope to see you there!
X-ALT-DESC;FMTTYPE=text/html:<span style="font-size:14px\;"><span style="font-family:arial\;">Please join us welcoming Crystal House Boutique to the Metro North Chamber!<br />\nLight lunch and refreshments will be served.<br />\n25% discount storewide from 12 noon - 4:00 pm.<br />\nWe hope to see you there!</span></span>
LOCATION:Crystal House Boutique 445 99th Avenue NW Suite 230 Coon Rapids 55433
UID:e.380.184906
SEQUENCE:3
DTSTAMP:20260420T182936Z
URL:http://members.metronorthchamber.org/events/details/ribbon-cutting-crystal-house-boutique-184906
END:VEVENT

END:VCALENDAR
