BEGIN:VCALENDAR
VERSION:2.0
PRODID:-//ChamberMaster//Event Calendar 2.0//EN
METHOD:PUBLISH
X-PUBLISHED-TTL:P3D
REFRESH-INTERVAL:P3D
CALSCALE:GREGORIAN
BEGIN:VEVENT
DTSTART:20171116T210000Z
DTEND:20171116T220000Z
X-MICROSOFT-CDO-ALLDAYEVENT:FALSE
SUMMARY:Ribbon Cutting - Crooners
DESCRIPTION:Ribbon Cutting at Crooners to kick off the celebration of their three year anniversary!\n\n\n\nAppetizers will be served and entertainment will be provided. Come hear Andrew and Anita sing!\n\nPLUS give-aways and a door prize!
X-ALT-DESC;FMTTYPE=text/html:Ribbon Cutting at Crooners to kick off the celebration of their three year anniversary!<br />\n<br />\nAppetizers will be served and entertainment will be provided. Come hear Andrew and Anita sing!<br />\nPLUS give-aways and a door prize!<br />\n<br />\n&nbsp\;
LOCATION:Crooners Lounge and Supper Club 6161 Highway 65 NE Fridley 55432
UID:e.380.179197
SEQUENCE:3
DTSTAMP:20260421T070932Z
URL:http://members.metronorthchamber.org/events/details/ribbon-cutting-crooners-179197
END:VEVENT

END:VCALENDAR
