BEGIN:VCALENDAR
VERSION:2.0
PRODID:-//ChamberMaster//Event Calendar 2.0//EN
METHOD:PUBLISH
X-PUBLISHED-TTL:P3D
REFRESH-INTERVAL:P3D
CALSCALE:GREGORIAN
BEGIN:VEVENT
DTSTART:20170615T170000Z
DTEND:20170615T180000Z
X-MICROSOFT-CDO-ALLDAYEVENT:FALSE
SUMMARY:Ribbon Cutting - Cricket Wireless
DESCRIPTION:Ribbon Cutting to celebrate Grand Opening weekend at Cricket Wireless in  Blaine! There will be delicious cake and punch :)\n\nExclusive raffle tickets will be handed out to be redeemed at the Grand Opening Saturday. *Must be present Saturday to win*
X-ALT-DESC;FMTTYPE=text/html:Ribbon Cutting to celebrate Grand Opening weekend at Cricket Wireless in &nbsp\;Blaine! There will be delicious cake and punch :)<br />\nExclusive raffle tickets will be handed out to be redeemed at the Grand Opening Saturday. *Must be present Saturday to win*
LOCATION:601 County Road 10 NE Blaine 55434
UID:e.380.175097
SEQUENCE:3
DTSTAMP:20260421T135132Z
URL:http://members.metronorthchamber.org/events/details/ribbon-cutting-cricket-wireless-175097
END:VEVENT

END:VCALENDAR
