BEGIN:VCALENDAR
VERSION:2.0
PRODID:-//ChamberMaster//Event Calendar 2.0//EN
METHOD:PUBLISH
X-PUBLISHED-TTL:P3D
REFRESH-INTERVAL:P3D
CALSCALE:GREGORIAN
BEGIN:VEVENT
DTSTART:20160128T181500Z
DTEND:20160128T184500Z
X-MICROSOFT-CDO-ALLDAYEVENT:FALSE
SUMMARY:Ribbon Cutting - CPR Cell Phone Repair
DESCRIPTION:CPR Cell Phone Repair will be holding a special Ribbon Cutting Ceremony to celebrate the grand opening of their facility.\n\n\n\nThey will be providing food and refreshments as well as holding a ticket drawing for one free repair. Additionally\, anyone who participates in the grand opening will get $10 off any repair and 10% off any accessory in the store!
X-ALT-DESC;FMTTYPE=text/html:CPR Cell Phone Repair will be holding a special Ribbon Cutting Ceremony to celebrate the grand opening of their facility.<br />\n<br />\nThey will be providing food and refreshments as well as holding a ticket drawing for one free repair. Additionally\, anyone who participates in the grand opening will get $10 off any repair and 10% off any accessory in the store!
LOCATION:CPR Cell Phone Repair 12689 Riverdale Boulevard NW Suite 204 Coon Rapids\, MN 55448
UID:e.380.160920
SEQUENCE:3
DTSTAMP:20260422T192313Z
URL:http://members.metronorthchamber.org/events/details/ribbon-cutting-cpr-cell-phone-repair-01-28-2016-160920
END:VEVENT

END:VCALENDAR
