BEGIN:VCALENDAR
VERSION:2.0
PRODID:-//ChamberMaster//Event Calendar 2.0//EN
METHOD:PUBLISH
X-PUBLISHED-TTL:P3D
REFRESH-INTERVAL:P3D
CALSCALE:GREGORIAN
BEGIN:VEVENT
DTSTART:20190625T210000Z
DTEND:20190625T220000Z
X-MICROSOFT-CDO-ALLDAYEVENT:FALSE
SUMMARY:Ribbon Cutting for Coon Rapids Chrysler Dodge Jeep Ram
DESCRIPTION:Join us in celebrating Coon Rapids Chrysler Dodge Jeep Ram's brand new building with a ribbon cutting! Tour the new building and enjoy some light appetizers. Ribbon will be cut at 4:15 pm.
X-ALT-DESC;FMTTYPE=text/html:Join us in celebrating Coon Rapids Chrysler Dodge Jeep Ram&#39\;s brand new building with a ribbon cutting! Tour the new building and enjoy some light appetizers. Ribbon will be cut at 4:15 pm.
LOCATION:Coon Rapids Chrysler Dodge Jeep Ram 10541 Woodcrest Drive NW Coon Rapids 55433
UID:e.380.189303
SEQUENCE:3
DTSTAMP:20260420T002821Z
URL:http://members.metronorthchamber.org/events/details/ribbon-cutting-coon-rapids-chrysler-dodge-189303
END:VEVENT

END:VCALENDAR
