BEGIN:VCALENDAR
VERSION:2.0
PRODID:-//ChamberMaster//Event Calendar 2.0//EN
METHOD:PUBLISH
X-PUBLISHED-TTL:P3D
REFRESH-INTERVAL:P3D
CALSCALE:GREGORIAN
BEGIN:VEVENT
DTSTART:20180313T170000Z
DTEND:20180313T180000Z
X-MICROSOFT-CDO-ALLDAYEVENT:FALSE
SUMMARY:Ribbon Cutting - Conquer Ninja
DESCRIPTION:Ribbon Cutting to celebrate opening of Conquer Ninja!
X-ALT-DESC;FMTTYPE=text/html:Ribbon Cutting to celebrate opening of Conquer Ninja!
LOCATION:Conquer Ninja 1469 101st Ave NE Blaine
UID:e.380.180270
SEQUENCE:3
DTSTAMP:20260421T002831Z
URL:http://members.metronorthchamber.org/events/details/ribbon-cutting-conquer-ninja-180270
END:VEVENT

END:VCALENDAR
