BEGIN:VCALENDAR
VERSION:2.0
PRODID:-//ChamberMaster//Event Calendar 2.0//EN
METHOD:PUBLISH
X-PUBLISHED-TTL:P3D
REFRESH-INTERVAL:P3D
CALSCALE:GREGORIAN
BEGIN:VEVENT
DTSTART:20141016T170000Z
DTEND:20141016T173000Z
X-MICROSOFT-CDO-ALLDAYEVENT:FALSE
SUMMARY:Ribbon Cutting\, Concierge Title
DESCRIPTION:Help us welcome this new member of MetroNorth! This is in conjunction with their customer appreciation party\, where they are also grilling!
X-ALT-DESC;FMTTYPE=text/html:Help us welcome this new member of MetroNorth! This is in conjunction with their customer appreciation party\, where they are also grilling!
LOCATION:13750 Crosstown Drive NW Suite 300 Andover\, MN 55304
UID:e.380.151652
SEQUENCE:3
DTSTAMP:20260423T192056Z
URL:http://members.metronorthchamber.org/events/details/ribbon-cutting-concierge-title-10-16-2014-151652
END:VEVENT

END:VCALENDAR
