BEGIN:VCALENDAR
VERSION:2.0
PRODID:-//ChamberMaster//Event Calendar 2.0//EN
METHOD:PUBLISH
X-PUBLISHED-TTL:P3D
REFRESH-INTERVAL:P3D
CALSCALE:GREGORIAN
BEGIN:VEVENT
DTSTART:20160225T181500Z
DTEND:20160225T184500Z
X-MICROSOFT-CDO-ALLDAYEVENT:FALSE
SUMMARY:Ribbon Cutting - Choice Cremation & Miller's
DESCRIPTION:Choice Cremation will be holding a Ribbon Cutting/ Appreciation Luncheon on Thursday February 25\, 2016 starting at 11:30 AM.  The Ribbon Cutting is in celebration of Choice Cremation and Miller Funeral Home's new membership to the Metro North Chamber.\n\n\n\nPlease join us as we celebrate our Ribbon Cutting at 12:15 on February 25\, 2016 at 7398 University Ave NE\, Fridley.\n\n\n\nA luncheon catered locally by Bob's Produce Ranch will be provided.Floral arrangements provided by Schaaf Floral. Be sure to register for two prize drawings at the event.\n\n\n\nOur staff will be on hand to provide tours and answer questions about the services we have to offer our communities.\n\n\n\nWe look forward to seeing you!
X-ALT-DESC;FMTTYPE=text/html:Choice<span style="line-height: 20.8px\;">&nbsp\;Cremation will be holding a Ribbon Cutting/ Appreciation Luncheon on Thursday February 25\, 2016 starting at 11:30 AM.&nbsp\; The Ribbon Cutting is in celebration of Choice Cremation and Miller Funeral Home&#39\;s new membership to the Metro North Chamber.</span><br />\n<br />\n<span style="color:black\;"><span style="font-family:courier new\;">Please join us as we celebrate our <strong>Ribbon Cutting at 12:15</strong> on February 25\, 2016 at 7398 University Ave NE\, Fridley.<br />\n<br />\nA luncheon catered locally by Bob&#39\;s Produce Ranch will be provided.Floral arrangements provided by Schaaf Floral. <strong>Be sure to register for two prize drawings at the event.</strong><br />\n<br />\nOur staff will be on hand to provide tours and answer questions about the services we have to offer our communities.<br />\n<br />\nWe look forward to seeing you!</span></span>
LOCATION:7398 University Ave NE\, Fridley\, MN 55432
UID:e.380.163242
SEQUENCE:3
DTSTAMP:20260422T180037Z
URL:http://members.metronorthchamber.org/events/details/ribbon-cutting-choice-cremation-miller-s-02-25-2016-163242
END:VEVENT

END:VCALENDAR
