BEGIN:VCALENDAR
VERSION:2.0
PRODID:-//ChamberMaster//Event Calendar 2.0//EN
METHOD:PUBLISH
X-PUBLISHED-TTL:P3D
REFRESH-INTERVAL:P3D
CALSCALE:GREGORIAN
BEGIN:VEVENT
DTSTART:20180330T210000Z
DTEND:20180330T220000Z
X-MICROSOFT-CDO-ALLDAYEVENT:FALSE
SUMMARY:Ribbon Cutting - Chiroway
DESCRIPTION:5 year Anniversary Open House and Ribbon Cutting!\n\n\n\nCatered Food and Refreshments!
X-ALT-DESC;FMTTYPE=text/html:5 year Anniversary Open House and Ribbon Cutting!<br />\n<br />\nCatered Food and Refreshments!
LOCATION:Chiroway of Blaine 1572 125th Avenue NE Blaine
UID:e.380.180289
SEQUENCE:3
DTSTAMP:20260421T020427Z
URL:http://members.metronorthchamber.org/events/details/ribbon-cutting-chiroway-180289
END:VEVENT

END:VCALENDAR
