BEGIN:VCALENDAR
VERSION:2.0
PRODID:-//ChamberMaster//Event Calendar 2.0//EN
METHOD:PUBLISH
X-PUBLISHED-TTL:P3D
REFRESH-INTERVAL:P3D
CALSCALE:GREGORIAN
BEGIN:VEVENT
DTSTART:20131010T140000Z
DTEND:20131010T143000Z
X-MICROSOFT-CDO-ALLDAYEVENT:FALSE
SUMMARY:Ribbon Cutting\, Chick-fil-A
DESCRIPTION:Please join us in celebrating the ribbon cutting and grand opening of Chick-fil-A!\n\n\n\nThis ribbon cutting will be held promptly at 9 a.m.\n\n\n\nAmbassador Team 1
X-ALT-DESC;FMTTYPE=text/html:Please join us in celebrating the ribbon cutting and grand opening of Chick-fil-A!<br />\n<br />\nThis ribbon cutting will be held promptly at 9 a.m.<br />\n<br />\nAmbassador Team 1
LOCATION:3590 River Rapids Drive NW Coon Rapids\, MN 55448
UID:e.380.149518
SEQUENCE:3
DTSTAMP:20260424T144218Z
URL:http://members.metronorthchamber.org/events/details/ribbon-cutting-chick-fil-a-10-10-2013-149518
END:VEVENT

END:VCALENDAR
