BEGIN:VCALENDAR
VERSION:2.0
PRODID:-//ChamberMaster//Event Calendar 2.0//EN
METHOD:PUBLISH
X-PUBLISHED-TTL:P3D
REFRESH-INTERVAL:P3D
CALSCALE:GREGORIAN
BEGIN:VEVENT
DTSTART:20180406T173000Z
DTEND:20180406T183000Z
X-MICROSOFT-CDO-ALLDAYEVENT:FALSE
SUMMARY:Ribbon Cutting-Cedar Insurance Agency
DESCRIPTION:Cedar Management Insurance Agency has opened its doors! Please join us as we cut the ribbon and celebrate. Door prizes and refreshments included.
X-ALT-DESC;FMTTYPE=text/html:Cedar Management Insurance Agency has opened its doors! Please join us as we cut the ribbon and celebrate. Door prizes and refreshments included.&nbsp\;
LOCATION:Cedar Insurance Agency 7260 University Avenue NE\, Suite 200 Fridley\, MN 55432
UID:e.380.181598
SEQUENCE:3
DTSTAMP:20260420T230946Z
URL:http://members.metronorthchamber.org/events/details/ribbon-cutting-cedar-insurance-agency-181598
END:VEVENT

END:VCALENDAR
