BEGIN:VCALENDAR
VERSION:2.0
PRODID:-//ChamberMaster//Event Calendar 2.0//EN
METHOD:PUBLISH
X-PUBLISHED-TTL:P3D
REFRESH-INTERVAL:P3D
CALSCALE:GREGORIAN
BEGIN:VEVENT
DTSTART:20170328T190000Z
DTEND:20170328T210000Z
X-MICROSOFT-CDO-ALLDAYEVENT:FALSE
SUMMARY:Ribbon Cutting - Cedar Association Realty
DESCRIPTION:Cedar Association Realty is holding a ribbon cutting to celebrate Their Grand Opening. They will be holding an open house from 2:00-4:00pm with cake\, coffee\, punch and a door prize. We will cut the ribbon at 4:00pm to end the Open House.
X-ALT-DESC;FMTTYPE=text/html:Cedar Association Realty is holding a ribbon cutting to celebrate Their Grand Opening. They will be holding an open house from 2:00-4:00pm&nbsp\;with cake\, coffee\, punch and a door prize. We will cut the ribbon at 4:00pm to end the Open House.
LOCATION:Cedar Association Realty 7260 University Avenue NE Suite 100 Fridley\, MN 55432
UID:e.380.171772
SEQUENCE:3
DTSTAMP:20260421T184521Z
URL:http://members.metronorthchamber.org/events/details/ribbon-cutting-cedar-association-realty-171772
END:VEVENT

END:VCALENDAR
