BEGIN:VCALENDAR
VERSION:2.0
PRODID:-//ChamberMaster//Event Calendar 2.0//EN
METHOD:PUBLISH
X-PUBLISHED-TTL:P3D
REFRESH-INTERVAL:P3D
CALSCALE:GREGORIAN
BEGIN:VEVENT
DTSTART:20120424T150000Z
DTEND:20120424T160000Z
X-MICROSOFT-CDO-ALLDAYEVENT:FALSE
SUMMARY:Ribbon Cutting - Carla Biederman - SchillMann Realty
DESCRIPTION:Come celebrate the Ribbon Cutting of Carla Biederman - SchillMann Realty in Anoka!
X-ALT-DESC;FMTTYPE=text/html:Come celebrate the Ribbon Cutting of Carla Biederman - SchillMann Realty in Anoka!
LOCATION:3824 7th Ave. No.\, Anoka\, MN 55303
UID:e.380.143786
SEQUENCE:3
DTSTAMP:20260425T192606Z
URL:http://members.metronorthchamber.org/events/details/ribbon-cutting-carla-biederman-schillmann-realty-04-24-2012-143786
END:VEVENT

END:VCALENDAR
