BEGIN:VCALENDAR
VERSION:2.0
PRODID:-//ChamberMaster//Event Calendar 2.0//EN
METHOD:PUBLISH
X-PUBLISHED-TTL:P3D
REFRESH-INTERVAL:P3D
CALSCALE:GREGORIAN
BEGIN:VEVENT
DTSTART:20160611T152000Z
DTEND:20160611T154500Z
X-MICROSOFT-CDO-ALLDAYEVENT:FALSE
SUMMARY:Ribbon Cutting - Cael's Angels
DESCRIPTION:Please join us for the Ribbon Cutting of Cael's Ride for Stillbirth June 11th\, 2016. After the ribbon cutting we will ride west\, north\, east\, and south to some nice locations for some socializing\, food and good fun.
X-ALT-DESC;FMTTYPE=text/html:Please join us for the Ribbon Cutting of Cael&rsquo\;s Ride for Stillbirth June 11th\, 2016. After the ribbon cutting&nbsp\;we will ride west\, north\, east\, and south to some nice locations for some socializing\, food and good fun.
LOCATION:Maple Grove Hospital\, 9875 Hospital Drive\, Maple Grove\, MN 55369. Southeast Parking lot\, under the parking ramp of the off Maple Grove Parkway.
UID:e.380.168226
SEQUENCE:3
DTSTAMP:20260422T102847Z
URL:http://members.metronorthchamber.org/events/details/ribbon-cutting-cael-s-angels-06-11-2016-168226
END:VEVENT

END:VCALENDAR
